BEGIN:VCALENDAR
VERSION:2.0
PRODID:-//eventon.com NONSGML v1.0//EN
BEGIN:VEVENT
UID:69e5f7f86492d
DTSTAMP:20260420T185504
DTSTART:20210313T060000Z
DTEND:20210313T145000Z
TZID:Asia/Tokyo
LOCATION:カードショップにけ 〒272-0141 千葉県市川市香取2丁目12-13
SUMMARY:カードショップにけ
DESCRIPTION: カードショップにけ
URL:https://gateruler.jp/events/%e3%82%ab%e3%83%bc%e3%83%89%e3%82%b7%e3%83%a7%e3%83%83%e3%83%97%e3%81%ab%e3%81%91-6/
END:VEVENT
END:VCALENDAR