BEGIN:VCALENDAR
VERSION:2.0
PRODID:-//eventon.com NONSGML v1.0//EN
BEGIN:VEVENT
UID:69e60cd76d210
DTSTAMP:20260420T202407
DTSTART:20210313T080000Z
DTEND:20210313T145000Z
TZID:Asia/Tokyo
LOCATION:カードショップSASAYA 〒818-0083 福岡県筑紫野市針摺中央2丁目17-1大熊ビル 1F
SUMMARY:カードショップSASAYA
DESCRIPTION: カードショップSASAYA
URL:https://gateruler.jp/events/%e3%82%ab%e3%83%bc%e3%83%89%e3%82%b7%e3%83%a7%e3%83%83%e3%83%97sasaya-4/
END:VEVENT
END:VCALENDAR