BEGIN:VCALENDAR
VERSION:2.0
PRODID:-//eventon.com NONSGML v1.0//EN
BEGIN:VEVENT
UID:69e633753698e
DTSTAMP:20260420T230853
DTSTART:20210314T060000Z
DTEND:20210314T145000Z
TZID:Asia/Tokyo
LOCATION:不知火(しらぬい) 〒111-0053 東京都台東区浅草橋１丁目１２−４ 東履東峰会館 B1F
SUMMARY:不知火(しらぬい)
DESCRIPTION: 不知火(しらぬい)
URL:https://gateruler.jp/events/%e4%b8%8d%e7%9f%a5%e7%81%ab%e3%81%97%e3%82%89%e3%81%ac%e3%81%84/
END:VEVENT
END:VCALENDAR