BEGIN:VCALENDAR
VERSION:2.0
PRODID:-//eventon.com NONSGML v1.0//EN
BEGIN:VEVENT
UID:69e6b456e4e7a
DTSTAMP:20260421T081846
DTSTART:20210321T050000Z
DTEND:20210321T145000Z
TZID:Asia/Tokyo
LOCATION:TCG&ボードゲームカフェ スターダスト 〒135-0016 東京都江東区東陽3丁目5−11 東陽ファーストビル 301
SUMMARY:TCG &ボードゲームカフェ スターダスト※延期
DESCRIPTION: 3月10日更新延期 -詳細は確定後、更新されます。
URL:https://gateruler.jp/events/tcg-%e3%83%9c%e3%83%bc%e3%83%89%e3%82%b2%e3%83%bc%e3%83%a0%e3%82%ab%e3%83%95%e3%82%a7-%e3%82%b9%e3%82%bf%e3%83%bc%e3%83%80%e3%82%b9%e3%83%88/
END:VEVENT
END:VCALENDAR