BEGIN:VCALENDAR
VERSION:2.0
PRODID:-//eventon.com NONSGML v1.0//EN
BEGIN:VEVENT
UID:69e7181128bac
DTSTAMP:20260421T152417
DTSTART:20210403T060000Z
DTEND:20210403T145000Z
TZID:Asia/Tokyo
LOCATION:ねばらん☆ 〒329-2162 栃木県矢板市末広町42-9
SUMMARY:ねばらん
DESCRIPTION: ねばらん
URL:https://gateruler.jp/events/%e3%81%ad%e3%81%b0%e3%82%89%e3%82%93/
END:VEVENT
END:VCALENDAR