BEGIN:VCALENDAR
VERSION:2.0
PRODID:-//eventon.com NONSGML v1.0//EN
BEGIN:VEVENT
UID:69e72deccfcb5
DTSTAMP:20260421T165732
DTSTART:20210404T020000Z
DTEND:20210404T145000Z
TZID:Asia/Tokyo
LOCATION:カードショップさくら 〒300-0036 茨城県土浦市大和町2−1
SUMMARY:カードショップさくら
DESCRIPTION: カードショップさくら
URL:https://gateruler.jp/events/%e3%82%ab%e3%83%bc%e3%83%89%e3%82%b7%e3%83%a7%e3%83%83%e3%83%97%e3%81%95%e3%81%8f%e3%82%89/
END:VEVENT
END:VCALENDAR