BEGIN:VCALENDAR
VERSION:2.0
PRODID:-//eventon.com NONSGML v1.0//EN
BEGIN:VEVENT
UID:69e74125a39e3
DTSTAMP:20260421T181933
DTSTART:20210404T063000Z
DTEND:20210404T145000Z
TZID:Asia/Tokyo
LOCATION:カードショップ サード 〒073-0151 北海道砂川市東1条北2丁目1-1
SUMMARY:カードショップ サード
DESCRIPTION: カードショップ サード
URL:https://gateruler.jp/events/%e3%82%ab%e3%83%bc%e3%83%89%e3%82%b7%e3%83%a7%e3%83%83%e3%83%97-%e3%82%b5%e3%83%bc%e3%83%89-6/
END:VEVENT
END:VCALENDAR