BEGIN:VCALENDAR
VERSION:2.0
PRODID:-//eventon.com NONSGML v1.0//EN
BEGIN:VEVENT
UID:69e76f511a9dd
DTSTAMP:20260421T213633
DTSTART:20210410T070000Z
DTEND:20210410T145000Z
TZID:Asia/Tokyo
LOCATION:カードボックス青馬堂書店矢向店 〒230-0001 神奈川県横浜市鶴見区矢向5丁目8-42
SUMMARY:カードボックス青馬堂書店矢向店
DESCRIPTION: カードボックス青馬堂書店矢向店
URL:https://gateruler.jp/events/%e3%82%ab%e3%83%bc%e3%83%89%e3%83%9c%e3%83%83%e3%82%af%e3%82%b9%e9%9d%92%e9%a6%ac%e5%a0%82%e6%9b%b8%e5%ba%97%e7%9f%a2%e5%90%91%e5%ba%97-5/
END:VEVENT
END:VCALENDAR