BEGIN:VCALENDAR
VERSION:2.0
PRODID:-//eventon.com NONSGML v1.0//EN
BEGIN:VEVENT
UID:69e78255c7ce7
DTSTAMP:20260421T225741
DTSTART:20210411T040000Z
DTEND:20210411T145000Z
TZID:Asia/Tokyo
LOCATION:G-PROJECT本店 〒806-0022 福岡県北九州市八幡西区藤田4丁目2-18 横尾ビル3階
SUMMARY:G-PROJECT
DESCRIPTION: G-PROJECT
URL:https://gateruler.jp/events/g-project/
END:VEVENT
END:VCALENDAR