BEGIN:VCALENDAR
VERSION:2.0
PRODID:-//eventon.com NONSGML v1.0//EN
BEGIN:VEVENT
UID:69e795c77c99e
DTSTAMP:20260422T002039
DTSTART:20210411T040000Z
DTEND:20210411T145000Z
TZID:Asia/Tokyo
LOCATION:ゲートルーラー専門店まるこめ 石川県金沢市安江町11-13
SUMMARY:ゲートルーラー専門店まるこめクラブ
DESCRIPTION: ※開催場所は店舗とは別会場となります。参加のお問い合わせはこちらへ
URL:https://gateruler.jp/events/%e3%82%b2%e3%83%bc%e3%83%88%e3%83%ab%e3%83%bc%e3%83%a9%e3%83%bc%e5%b0%82%e9%96%80%e5%ba%97%e3%81%be%e3%82%8b%e3%81%93%e3%82%81/
END:VEVENT
END:VCALENDAR