BEGIN:VCALENDAR
VERSION:2.0
PRODID:-//eventon.com NONSGML v1.0//EN
BEGIN:VEVENT
UID:69e7ac1a85bb7
DTSTAMP:20260422T015554
DTSTART:20210424T020000Z
DTEND:20210424T145000Z
TZID:Asia/Tokyo
LOCATION:カードショップさくら 〒300-0036 茨城県土浦市大和町2−1
SUMMARY:カードショップさくら
DESCRIPTION: カードショップさくら
URL:https://gateruler.jp/events/%e3%82%ab%e3%83%bc%e3%83%89%e3%82%b7%e3%83%a7%e3%83%83%e3%83%97%e3%81%95%e3%81%8f%e3%82%89-2/
END:VEVENT
END:VCALENDAR