BEGIN:VCALENDAR
VERSION:2.0
PRODID:-//eventon.com NONSGML v1.0//EN
BEGIN:VEVENT
UID:69e7c0078e88e
DTSTAMP:20260422T032055
DTSTART:20210425T060000Z
DTEND:20210425T145000Z
TZID:Asia/Tokyo
LOCATION:カードランド秋葉原店 東京都千代田区外神田1-6-1 外神田ビル3F
SUMMARY:カードランド秋葉原店
DESCRIPTION: カードランド秋葉原店
URL:https://gateruler.jp/events/%e3%82%ab%e3%83%bc%e3%83%89%e3%83%a9%e3%83%b3%e3%83%89%e7%a7%8b%e8%91%89%e5%8e%9f%e5%ba%97/
END:VEVENT
END:VCALENDAR