BEGIN:VCALENDAR
VERSION:2.0
PRODID:-//eventon.com NONSGML v1.0//EN
BEGIN:VEVENT
UID:69e7d51ba9cb2
DTSTAMP:20260422T045051
DTSTART:20210425T050000Z
DTEND:20210425T145000Z
TZID:Asia/Tokyo
LOCATION:コミかる高崎店 〒370-0046 群馬県高崎市江木町333-1 EXビル
SUMMARY:コミかる高崎店
DESCRIPTION: コミかる高崎店
URL:https://gateruler.jp/events/%e3%82%b3%e3%83%9f%e3%81%8b%e3%82%8b%e9%ab%98%e5%b4%8e%e5%ba%97-6/
END:VEVENT
END:VCALENDAR