BEGIN:VCALENDAR
VERSION:2.0
PRODID:-//eventon.com NONSGML v1.0//EN
BEGIN:VEVENT
UID:69e7e7f5ec8ac
DTSTAMP:20260422T061117
DTSTART:20210417T050000Z
DTEND:20210417T145000Z
TZID:Asia/Tokyo
LOCATION:カードショップ宝島神居店 北海道旭川市神居2条11丁目4番9号
SUMMARY:カードショップ宝島神居店
DESCRIPTION: カードショップ宝島神居店
URL:https://gateruler.jp/events/%e3%82%ab%e3%83%bc%e3%83%89%e3%82%b7%e3%83%a7%e3%83%83%e3%83%97%e5%ae%9d%e5%b3%b6%e7%a5%9e%e5%b1%85%e5%ba%97/
END:VEVENT
END:VCALENDAR