BEGIN:VCALENDAR
VERSION:2.0
PRODID:-//eventon.com NONSGML v1.0//EN
BEGIN:VEVENT
UID:69e7feb727d85
DTSTAMP:20260422T074823
DTSTART:20210403T020000Z
DTEND:20210403T145000Z
TZID:Asia/Tokyo
LOCATION:ビデオインアメリカ一宮店 〒491-0921 愛知県一宮市妙興寺1丁目2-8
SUMMARY:ビデオインアメリカ一宮店
DESCRIPTION: ビデオインアメリカ一宮店
URL:https://gateruler.jp/events/%e3%83%93%e3%83%87%e3%82%aa%e3%82%a4%e3%83%b3%e3%82%a2%e3%83%a1%e3%83%aa%e3%82%ab%e4%b8%80%e5%ae%ae%e5%ba%97/
END:VEVENT
END:VCALENDAR