BEGIN:VCALENDAR
VERSION:2.0
PRODID:-//eventon.com NONSGML v1.0//EN
BEGIN:VEVENT
UID:69e8269eaba24
DTSTAMP:20260422T103838
DTSTART:20210411T080000Z
DTEND:20210411T145000Z
TZID:Asia/Tokyo
LOCATION:トレカショップshima 〒901-2133 沖縄県浦添市城間3丁目3-8
SUMMARY:トレカショップshima
DESCRIPTION: トレカショップshima
URL:https://gateruler.jp/events/%e3%83%88%e3%83%ac%e3%82%ab%e3%82%b7%e3%83%a7%e3%83%83%e3%83%97shima-2/
END:VEVENT
END:VCALENDAR