BEGIN:VCALENDAR
VERSION:2.0
PRODID:-//eventon.com NONSGML v1.0//EN
BEGIN:VEVENT
UID:69e8286ed3aaf
DTSTAMP:20260422T104622
DTSTART:20210418T090000Z
DTEND:20210418T145000Z
TZID:Asia/Tokyo
LOCATION:カードキングダム溝の口店 〒213-0001 神奈川県川崎市高津区溝口1丁目9-5 ブラパックIIビル4階
SUMMARY:カードキングダム溝の口店
DESCRIPTION: カードキングダム溝の口店
URL:https://gateruler.jp/events/%e3%82%ab%e3%83%bc%e3%83%89%e3%82%ad%e3%83%b3%e3%82%b0%e3%83%80%e3%83%a0%e6%ba%9d%e3%81%ae%e5%8f%a3%e5%ba%97-4/
END:VEVENT
END:VCALENDAR