BEGIN:VCALENDAR
VERSION:2.0
PRODID:-//eventon.com NONSGML v1.0//EN
BEGIN:VEVENT
UID:69e850f946d11
DTSTAMP:20260422T133921
DTSTART:20210424T070000Z
DTEND:20210424T145000Z
TZID:Asia/Tokyo
LOCATION:ビデオインアメリカ西七条店 〒600-8871 京都府京都市下京区西七条北東野町18-1
SUMMARY:ビデオインアメリカ西七条店
DESCRIPTION: ビデオインアメリカ西七条店
URL:https://gateruler.jp/events/%e3%83%93%e3%83%87%e3%82%aa%e3%82%a4%e3%83%b3%e3%82%a2%e3%83%a1%e3%83%aa%e3%82%ab%e8%a5%bf%e4%b8%83%e6%9d%a1%e5%ba%97/
END:VEVENT
END:VCALENDAR