BEGIN:VCALENDAR
VERSION:2.0
PRODID:-//eventon.com NONSGML v1.0//EN
BEGIN:VEVENT
UID:69e838d417753
DTSTAMP:20260422T115620
DTSTART:20210425T040000Z
DTEND:20210425T145000Z
TZID:Asia/Tokyo
LOCATION:2ゲートルーラー専門店まるこめクラブ 宮城県仙台市青葉区五橋1-1-58
SUMMARY:ゲートルーラー専門店まるこめクラブ
DESCRIPTION: ※店舗と会場別
URL:https://gateruler.jp/events/%e3%82%b2%e3%83%bc%e3%83%88%e3%83%ab%e3%83%bc%e3%83%a9%e3%83%bc%e5%b0%82%e9%96%80%e5%ba%97%e3%81%be%e3%82%8b%e3%81%93%e3%82%81%e3%82%af%e3%83%a9%e3%83%96/
END:VEVENT
END:VCALENDAR