BEGIN:VCALENDAR
VERSION:2.0
PRODID:-//eventon.com NONSGML v1.0//EN
BEGIN:VEVENT
UID:69e85cba9217e
DTSTAMP:20260422T142930
DTSTART:20210508T050000Z
DTEND:20210508T145000Z
TZID:Asia/Tokyo
LOCATION:カードショップ パワーナイン 〒021-0062 岩手県一関市山目寺前34-2
SUMMARY:ホビーショップ パワーナイン
DESCRIPTION: ホビーショップ パワーナイン
URL:https://gateruler.jp/events/%e3%82%ab%e3%83%bc%e3%83%89%e3%82%b7%e3%83%a7%e3%83%83%e3%83%97-%e3%83%91%e3%83%af%e3%83%bc%e3%83%8a%e3%82%a4%e3%83%b3/
END:VEVENT
END:VCALENDAR