BEGIN:VCALENDAR
VERSION:2.0
PRODID:-//eventon.com NONSGML v1.0//EN
BEGIN:VEVENT
UID:69e84b8610181
DTSTAMP:20260422T131606
DTSTART:20210410T050000Z
DTEND:20210410T145000Z
TZID:Asia/Tokyo
LOCATION:ケム 〒760-0054 香川県高松市常磐町１丁目３−1 瓦町FLAG 9F
SUMMARY:ケム
DESCRIPTION: 会場と店舗別場所問い合わせ先店舗Twitter: https://twitter.com/gr_kg[..]
URL:https://gateruler.jp/events/%e3%82%b1%e3%83%a0/
END:VEVENT
END:VCALENDAR