BEGIN:VCALENDAR
VERSION:2.0
PRODID:-//eventon.com NONSGML v1.0//EN
BEGIN:VEVENT
UID:69e85cba95f59
DTSTAMP:20260422T142930
DTSTART:20210418T040000Z
DTEND:20210418T145000Z
TZID:Asia/Tokyo
LOCATION:ゲートルーラー専門店まるこめクラブ 東京都台東区台東1-11-4
SUMMARY:ゲートルーラー専門店まるこめクラブ
DESCRIPTION: 会場と店舗別問い合わせ先Twitter:&nbsp;https://twitter.com/gate[..]
URL:https://gateruler.jp/events/%e3%82%b2%e3%83%bc%e3%83%88%e3%83%ab%e3%83%bc%e3%83%a9%e3%83%bc%e5%b0%82%e9%96%80%e5%ba%97%e3%81%be%e3%82%8b%e3%81%93%e3%82%81%e3%82%af%e3%83%a9%e3%83%96-2/
END:VEVENT
END:VCALENDAR