BEGIN:VCALENDAR
VERSION:2.0
PRODID:-//eventon.com NONSGML v1.0//EN
BEGIN:VEVENT
UID:69e8718abc3bb
DTSTAMP:20260422T155818
DTSTART:20210407T080000Z
DTEND:20210407T145000Z
TZID:Asia/Tokyo
LOCATION:イエローサブマリン マジッカーズ★ハイパーアリーナ 101-0021	東京都千代田区外神田1-11-5 秋葉原スーパービル7F
SUMMARY:イエローサブマリン マジッカーズ★ハイパーアリーナ
DESCRIPTION: イエローサブマリン マジッカーズ★ハイパーアリーナ
URL:https://gateruler.jp/events/%e3%82%a4%e3%82%a8%e3%83%ad%e3%83%bc%e3%82%b5%e3%83%96%e3%83%9e%e3%83%aa%e3%83%b3-%e3%83%9e%e3%82%b8%e3%83%83%e3%82%ab%e3%83%bc%e3%82%ba%e2%98%85%e3%83%8f%e3%82%a4%e3%83%91%e3%83%bc%e3%82%a2%e3%83%aa/
END:VEVENT
END:VCALENDAR