BEGIN:VCALENDAR
VERSION:2.0
PRODID:-//eventon.com NONSGML v1.0//EN
BEGIN:VEVENT
UID:69eb35726d9e2
DTSTAMP:20260424T181842
DTSTART:20210505T040000Z
DTEND:20210505T145000Z
TZID:Asia/Tokyo
LOCATION:カンテラ 〒301-0005 茨城県龍ケ崎市川原代町5581-12 イイジマビル 2F
SUMMARY:カンテラ
DESCRIPTION: カンテラ
URL:https://gateruler.jp/events/%e3%82%ab%e3%83%b3%e3%83%86%e3%83%a9-4/
END:VEVENT
END:VCALENDAR