BEGIN:VCALENDAR
VERSION:2.0
PRODID:-//eventon.com NONSGML v1.0//EN
BEGIN:VEVENT
UID:69eb8dc2d1d99
DTSTAMP:20260425T003530
DTSTART:20210418T150000Z
DTEND:20210419T145900Z
TZID:Asia/Tokyo
LOCATION:カードショップわいずまん 福岡県　大野城市　下大利１－１９－６　２F
SUMMARY:カードショップわいずまん
DESCRIPTION: カードショップわいずまん
URL:https://gateruler.jp/events/%e3%82%ab%e3%83%bc%e3%83%89%e3%82%b7%e3%83%a7%e3%83%83%e3%83%97%e3%82%8f%e3%81%84%e3%81%9a%e3%81%be%e3%82%93-5/
END:VEVENT
END:VCALENDAR