BEGIN:VCALENDAR
VERSION:2.0
PRODID:-//eventon.com NONSGML v1.0//EN
BEGIN:VEVENT
UID:69eb8e9da7b21
DTSTAMP:20260425T003909
DTSTART:20210409T150000Z
DTEND:20210410T145900Z
TZID:Asia/Tokyo
LOCATION:なんば店 カードキングダム 大阪市浪速区難波中2-2-20 辻村ビル ３F
SUMMARY:なんば店 カードキングダム
DESCRIPTION: なんば店 カードキングダム
URL:https://gateruler.jp/events/%e3%81%aa%e3%82%93%e3%81%b0%e5%ba%97-%e3%82%ab%e3%83%bc%e3%83%89%e3%82%ad%e3%83%b3%e3%82%b0%e3%83%80%e3%83%a0-2/
END:VEVENT
END:VCALENDAR