BEGIN:VCALENDAR
VERSION:2.0
PRODID:-//eventon.com NONSGML v1.0//EN
BEGIN:VEVENT
UID:69ebd964263e2
DTSTAMP:20260425T055812
DTSTART:20210625T150000Z
DTEND:20210626T145900Z
TZID:Asia/Tokyo
LOCATION:カードキングダムなんば店 〒556-0011 大阪府大阪市浪速区難波中2丁目2-20
SUMMARY:カードキングダムなんば店
DESCRIPTION: カードキングダムなんば店
URL:https://gateruler.jp/events/%e3%82%ab%e3%83%bc%e3%83%89%e3%82%ad%e3%83%b3%e3%82%b0%e3%83%80%e3%83%a0%e3%81%aa%e3%82%93%e3%81%b0%e5%ba%97-14/
END:VEVENT
END:VCALENDAR