BEGIN:VCALENDAR
VERSION:2.0
PRODID:-//eventon.com NONSGML v1.0//EN
BEGIN:VEVENT
UID:69ec024aa4070
DTSTAMP:20260425T085242
DTSTART:20210327T150000Z
DTEND:20210328T145900Z
TZID:Asia/Tokyo
LOCATION:G-PROJECT 北九州市八幡西区藤田4-2-18 横尾ビル３F
SUMMARY:G-PROJECT
DESCRIPTION: G-PROJECT
URL:https://gateruler.jp/events/g-project-3/
END:VEVENT
END:VCALENDAR