BEGIN:VCALENDAR
VERSION:2.0
PRODID:-//eventon.com NONSGML v1.0//EN
BEGIN:VEVENT
UID:69ec2a5105b66
DTSTAMP:20260425T114329
DTSTART:20210410T150000Z
DTEND:20210411T145900Z
TZID:Asia/Tokyo
LOCATION:G-PROJECT 北九州市八幡西区藤田4-2-18 横尾ビル３F
SUMMARY:G-PROJECT
DESCRIPTION: G-PROJECT
URL:https://gateruler.jp/events/g-project-5/
END:VEVENT
END:VCALENDAR