BEGIN:VCALENDAR
VERSION:2.0
PRODID:-//eventon.com NONSGML v1.0//EN
BEGIN:VEVENT
UID:69ec3c5d5078b
DTSTAMP:20260425T130029
DTSTART:20210320T150000Z
DTEND:20210321T145900Z
TZID:Asia/Tokyo
LOCATION:こども楽園 岐阜県多治見市本町4-60
SUMMARY:こども楽園
DESCRIPTION: こども楽園
URL:https://gateruler.jp/events/%e3%81%93%e3%81%a9%e3%82%82%e6%a5%bd%e5%9c%92-2/
END:VEVENT
END:VCALENDAR