BEGIN:VCALENDAR
VERSION:2.0
PRODID:-//eventon.com NONSGML v1.0//EN
BEGIN:VEVENT
UID:69ec9bac098f6
DTSTAMP:20260425T194708
DTSTART:20210416T150000Z
DTEND:20210417T145900Z
TZID:Asia/Tokyo
LOCATION:カンテラ 〒301-0005 茨城県龍ケ崎市川原代町5581-12 イイジマビル 2F
SUMMARY:カンテラ
DESCRIPTION: カンテラ
URL:https://gateruler.jp/events/%e3%82%ab%e3%83%b3%e3%83%86%e3%83%a9-7/
END:VEVENT
END:VCALENDAR