BEGIN:VCALENDAR
VERSION:2.0
PRODID:-//eventon.com NONSGML v1.0//EN
BEGIN:VEVENT
UID:69ecbf9841590
DTSTAMP:20260425T222024
DTSTART:20210331T150000Z
DTEND:20210401T145900Z
TZID:Asia/Tokyo
LOCATION:アメニティードリーム新宿店 東京都新宿区西新宿7-1-8ヒノデビル4F
SUMMARY:アメニティードリーム新宿店
DESCRIPTION: アメニティードリーム新宿店
URL:https://gateruler.jp/events/%e3%82%a2%e3%83%a1%e3%83%8b%e3%83%86%e3%82%a3%e3%83%bc%e3%83%89%e3%83%aa%e3%83%bc%e3%83%a0%e6%96%b0%e5%ae%bf%e5%ba%97/
END:VEVENT
END:VCALENDAR