BEGIN:VCALENDAR
VERSION:2.0
PRODID:-//eventon.com NONSGML v1.0//EN
BEGIN:VEVENT
UID:69ece2675baf8
DTSTAMP:20260426T004855
DTSTART:20210522T150000Z
DTEND:20210523T145900Z
TZID:Asia/Tokyo
LOCATION:フジヤ 東京都板橋区常盤台2-27-9
SUMMARY:フジヤ
DESCRIPTION: フジヤ
URL:https://gateruler.jp/events/%e3%83%95%e3%82%b8%e3%83%a4-2/
END:VEVENT
END:VCALENDAR