BEGIN:VCALENDAR
VERSION:2.0
PRODID:-//eventon.com NONSGML v1.0//EN
BEGIN:VEVENT
UID:69ece5f7b66c6
DTSTAMP:20260426T010407
DTSTART:20210425T080000Z
DTEND:20210425T080000Z
TZID:Asia/Tokyo
LOCATION:カードキングダム徳島店 〒770-0861 徳島県徳島市住吉6丁目1-10-1
SUMMARY:カードキングダム徳島店
DESCRIPTION: カードキングダム徳島店
URL:https://gateruler.jp/events/%e3%82%ab%e3%83%bc%e3%83%89%e3%82%ad%e3%83%b3%e3%82%b0%e3%83%80%e3%83%a0%e5%be%b3%e5%b3%b6%e5%ba%97-11/
END:VEVENT
END:VCALENDAR