BEGIN:VCALENDAR
VERSION:2.0
PRODID:-//eventon.com NONSGML v1.0//EN
BEGIN:VEVENT
UID:69ed590456c24
DTSTAMP:20260426T091500
DTSTART:20210526T150000Z
DTEND:20210527T145900Z
TZID:Asia/Tokyo
LOCATION:トレカショップshima 〒901-2133 沖縄県浦添市城間3丁目3-8
SUMMARY:トレカショップshima
DESCRIPTION: ゲートルーラーシマ杯開催中 初心者の方も大歓迎(o^^o)
URL:https://gateruler.jp/events/%e3%83%88%e3%83%ac%e3%82%ab%e3%82%b7%e3%83%a7%e3%83%83%e3%83%97shima-12/
END:VEVENT
END:VCALENDAR