BEGIN:VCALENDAR
VERSION:2.0
PRODID:-//eventon.com NONSGML v1.0//EN
BEGIN:VEVENT
UID:69ed913755339
DTSTAMP:20260426T131447
DTSTART:20210326T150000Z
DTEND:20210327T145900Z
TZID:Asia/Tokyo
LOCATION:チャレンジャー 〒720-0045 広島県福山市宝町3-19
SUMMARY:チャレンジャー
DESCRIPTION: 参加費500円
URL:https://gateruler.jp/events/%e3%83%81%e3%83%a3%e3%83%ac%e3%83%b3%e3%82%b8%e3%83%a3%e3%83%bc-4/
END:VEVENT
END:VCALENDAR