BEGIN:VCALENDAR
VERSION:2.0
PRODID:-//eventon.com NONSGML v1.0//EN
BEGIN:VEVENT
UID:69e7632c13a84
DTSTAMP:20260421T204444
DTSTART:20230827T120000Z
DTEND:20230827T120000Z
TZID:Asia/Tokyo
LOCATION:Discord 
SUMMARY:ゲートルーラーオープンノ会
DESCRIPTION: ゲートルーラーオープンノ会
URL:https://gateruler.jp/events/%e3%82%b2%e3%83%bc%e3%83%88%e3%83%ab%e3%83%bc%e3%83%a9%e3%83%bc%e3%82%aa%e3%83%bc%e3%83%97%e3%83%b3%e3%83%8e%e4%bc%9a-5/
END:VEVENT
END:VCALENDAR