BEGIN:VCALENDAR
VERSION:2.0
PRODID:-//eventon.com NONSGML v1.0//EN
BEGIN:VEVENT
UID:69e74e5451330
DTSTAMP:20260421T191548
DTSTART:20230819T090000Z
DTEND:20230819T090000Z
TZID:Asia/Tokyo
LOCATION:青馬堂書店本店 神奈川県横浜市鶴見区矢向6-12-11
SUMMARY:北関東ゲートルーラー同好会
DESCRIPTION: 北関東ゲートルーラー同好会
URL:https://gateruler.jp/events/%e5%8c%97%e9%96%a2%e6%9d%b1%e3%82%b2%e3%83%bc%e3%83%88%e3%83%ab%e3%83%bc%e3%83%a9%e3%83%bc%e5%90%8c%e5%a5%bd%e4%bc%9a-15/
END:VEVENT
END:VCALENDAR