BEGIN:VCALENDAR
VERSION:2.0
PRODID:-//eventon.com NONSGML v1.0//EN
BEGIN:VEVENT
UID:69e762cf930d4
DTSTAMP:20260421T204311
DTSTART:20230819T080000Z
DTEND:20230819T080000Z
TZID:Asia/Tokyo
LOCATION:230-0001 神奈川県横浜市鶴見区矢向６－１２－１１ 
SUMMARY:青馬堂本店
DESCRIPTION: 青馬堂本店
URL:https://gateruler.jp/events/%e9%9d%92%e9%a6%ac%e5%a0%82%e6%9c%ac%e5%ba%97-24/
END:VEVENT
END:VCALENDAR