BEGIN:VCALENDAR
VERSION:2.0
PRODID:-//eventon.com NONSGML v1.0//EN
BEGIN:VEVENT
UID:69e830c62f85a
DTSTAMP:20260422T112158
DTSTART:20230910T120000Z
DTEND:20230910T120000Z
TZID:Asia/Tokyo
LOCATION:ゲートルーラーオープンノ会 
SUMMARY:ゲートルーラーオープンノ会
DESCRIPTION: ゲートルーラーオープンノ会
URL:https://gateruler.jp/events/%e3%82%b2%e3%83%bc%e3%83%88%e3%83%ab%e3%83%bc%e3%83%a9%e3%83%bc%e3%82%aa%e3%83%bc%e3%83%97%e3%83%b3%e3%83%8e%e4%bc%9a-6/
END:VEVENT
END:VCALENDAR