BEGIN:VCALENDAR
VERSION:2.0
PRODID:-//eventon.com NONSGML v1.0//EN
BEGIN:VEVENT
UID:69e98b0431580
DTSTAMP:20260423T115916
DTSTART:20230924T120000Z
DTEND:20230924T120000Z
TZID:Asia/Tokyo
LOCATION:
SUMMARY:ゲートルーラー派遣部隊
DESCRIPTION: 予約あり。コメントに反応 Discord(https://discord.gg/3yRM8MDe)
URL:https://gateruler.jp/events/%e3%82%b2%e3%83%bc%e3%83%88%e3%83%ab%e3%83%bc%e3%83%a9%e3%83%bc%e6%b4%be%e9%81%a3%e9%83%a8%e9%9a%8a-49/
END:VEVENT
END:VCALENDAR