BEGIN:VCALENDAR
VERSION:2.0
PRODID:-//eventon.com NONSGML v1.0//EN
BEGIN:VEVENT
UID:69ed7b858ce5e
DTSTAMP:20260426T114213
DTSTART:20231223T090000Z
DTEND:20231222T150000Z
TZID:Asia/Tokyo
LOCATION:青馬堂本店 230-0001 神奈川県横浜市鶴見区矢向6-12-11
SUMMARY:ゲートルーラーオープンノ会
DESCRIPTION: ゲートルーラーオープンノ会
URL:https://gateruler.jp/events/%e3%82%b2%e3%83%bc%e3%83%88%e3%83%ab%e3%83%bc%e3%83%a9%e3%83%bc%e3%82%aa%e3%83%bc%e3%83%97%e3%83%b3%e3%83%8e%e4%bc%9a-16/
END:VEVENT
END:VCALENDAR