BEGIN:VCALENDAR
VERSION:2.0
PRODID:-//eventon.com NONSGML v1.0//EN
BEGIN:VEVENT
UID:69ed8d6174d21
DTSTAMP:20260426T125825
DTSTART:20240121T120000Z
DTEND:20240120T150000Z
TZID:Asia/Tokyo
LOCATION:Discord 
SUMMARY:ゲートルーラー派遣部隊
DESCRIPTION: 予約有(募集告知にスタンプ)
URL:https://gateruler.jp/events/%e3%82%b2%e3%83%bc%e3%83%88%e3%83%ab%e3%83%bc%e3%83%a9%e3%83%bc%e6%b4%be%e9%81%a3%e9%83%a8%e9%9a%8a-56/
END:VEVENT
END:VCALENDAR